BEGIN:VCALENDAR
VERSION:2.0
PRODID:-//PUCHOG - ECPv6.15.13//NONSGML v1.0//EN
CALSCALE:GREGORIAN
METHOD:PUBLISH
X-WR-CALNAME:PUCHOG
X-ORIGINAL-URL:https://www.puchog.org
X-WR-CALDESC:Events for PUCHOG
REFRESH-INTERVAL;VALUE=DURATION:PT1H
X-Robots-Tag:noindex
X-PUBLISHED-TTL:PT1H
BEGIN:VTIMEZONE
TZID:America/New_York
BEGIN:DAYLIGHT
TZOFFSETFROM:-0500
TZOFFSETTO:-0400
TZNAME:EDT
DTSTART:20240310T070000
END:DAYLIGHT
BEGIN:STANDARD
TZOFFSETFROM:-0400
TZOFFSETTO:-0500
TZNAME:EST
DTSTART:20241103T060000
END:STANDARD
BEGIN:DAYLIGHT
TZOFFSETFROM:-0500
TZOFFSETTO:-0400
TZNAME:EDT
DTSTART:20250309T070000
END:DAYLIGHT
BEGIN:STANDARD
TZOFFSETFROM:-0400
TZOFFSETTO:-0500
TZNAME:EST
DTSTART:20251102T060000
END:STANDARD
BEGIN:DAYLIGHT
TZOFFSETFROM:-0500
TZOFFSETTO:-0400
TZNAME:EDT
DTSTART:20260308T070000
END:DAYLIGHT
BEGIN:STANDARD
TZOFFSETFROM:-0400
TZOFFSETTO:-0500
TZNAME:EST
DTSTART:20261101T060000
END:STANDARD
BEGIN:DAYLIGHT
TZOFFSETFROM:-0500
TZOFFSETTO:-0400
TZNAME:EDT
DTSTART:20270314T070000
END:DAYLIGHT
BEGIN:STANDARD
TZOFFSETFROM:-0400
TZOFFSETTO:-0500
TZNAME:EST
DTSTART:20271107T060000
END:STANDARD
END:VTIMEZONE
BEGIN:VEVENT
DTSTART;TZID=America/New_York:20251114T000000
DTEND;TZID=America/New_York:20260119T235900
DTSTAMP:20260422T020823
CREATED:20260106T150952Z
LAST-MODIFIED:20260113T201804Z
UID:1771-1763078400-1768867140@www.puchog.org
SUMMARY:PUCHOG Gun Raffle 2026
DESCRIPTION:Gun Raffle Presented by PUCHOG\nAll proceeds benefit Disabled Veterans. \nEnter for a chance to win one of 10 incredible firearms! Each day from January 10-19\, 2026\, winners are determined by the Pennsylvania Lottery Match 3 evening drawing. \n\nHow to Enter\nTicket Prices\n\n$30 – 1 ticket\n$100 – 4 tickets\n\nPurchase Instructions\n\nContact john.jones@puchog.org for payment instructions\nComplete payment via the provided method\nReceive your ticket number (short waiting period after payment)\nStarting January 10th\, monitor the PA Evening Lottery Pick 3 to see if you’re a winner!\n\n\nWhat You Can Win\nComplete Prize List\nPistols\n\nSig Sauer P322 – $419 (.22 Caliber) #322CBAS\nKel-Tec P17 – $230 (.22 Caliber) #P17BLK\nSpringfield Armory 1911 Mil-Spec – $679 (.45 Caliber) #PBD9108L\nTaurus Judge Revolver – $519 (45/410 Caliber) #2-441039T\n\nShotguns\n\nMossberg Maverick 88 – $259 (12 Gauge) #31010\nBeretta A300 – $869 (12 Gauge) #J32TT18\n\nRifles\n\nAnderson AR-15 – $499 (5.56 Caliber) #AM-15DRKHRS\nRuger American Rimfire – $469 (.22 Caliber) #08372\nRuger American Ranch – $589 (5.56 Caliber) #46922\nSavage 110 Hunter – $629 (22-250 Caliber) #57302\n\nDaily Prize Schedule\n\nJanuary 10: Sig Sauer P322 (.22 Pistol) – $419\nJanuary 11: Mossberg Maverick 88 (12 Gauge Shotgun) – $259\nJanuary 12: Ruger American Rimfire (.22 Rifle) – $469\nJanuary 13: Kel-Tec P17 (.22 Pistol) – $230\nJanuary 14: Ruger American Ranch (5.56 Caliber Rifle) – $589\nJanuary 15: Springfield 1911 (.45 Pistol) – $679\nJanuary 16: Beretta A300 (12 Gauge Shotgun) – $869\nJanuary 17: Taurus Judge (.45/410 Revolver) – $519\nJanuary 18: Anderson AR-15 (5.56 Rifle) – $499\nJanuary 19: Ruger American Ranch (450 Caliber Rifle) – $629\n\nWinning Numbers\n\nJanuary 10: 017\nJanuary 11: 232\nJanuary 12: 055\nJanuary 13:\nJanuary 14:\nJanuary 15:\nJanuary 16:\nJanuary 17:\nJanuary 18:\nJanuary 19:\n\n\nHow the Drawing Works\nEach evening\, the person holding the ticket matching the Pennsylvania Lottery Match 3 evening drawing wins that night’s gun. \nRollover Policy\nIf no winning number is drawn on any evening\, that gun moves to the end of the raffle schedule. We’ll keep drawing until all guns find their new homes! \nExample: If no winning number is drawn on January 11th\, the Mossberg Maverick 88 will be raffled on January 20th. \n\nWinner Information\n\nNotification: Winners will be contacted within 24 hours of the drawing\nHaven’t heard from us? If you are not contacted within 24 hours\, please reach out to us\nPickup Location: Arrangements will be made to pick up your gun at Mechanicsburg Ordinance\nShare Your Win: We would love to get a picture of you with your new gun to post on our social media!\n\n\nQuestions?\nContact john.jones@puchog.org
URL:https://www.puchog.org/event/puchog-gun-raffle-2026/
LOCATION:PA
CATEGORIES:Fundraisers
ATTACH;FMTTYPE=image/jpeg:https://www.puchog.org/wp-content/uploads/2025/04/istockphoto-1183295329-612x612-1.jpg
END:VEVENT
BEGIN:VEVENT
DTSTART;TZID=America/New_York:20260104T080000
DTEND;TZID=America/New_York:20260208T180000
DTSTAMP:20260422T020824
CREATED:20260104T194555Z
LAST-MODIFIED:20260118T165351Z
UID:1903-1767513600-1770573600@www.puchog.org
SUMMARY:Super Bowl Squares 2026
DESCRIPTION:Event Date: Super Bowl LIX – Sunday\, February 8\, 2026 at 6:30 PM Eastern \nTeams: TBD (determined after conference championships) \n\nEvent Details\nJoin PUCHOG for our Super Bowl Squares fundraiser! $10 per square with multiple chances to win throughout the game. \nPricing\n\n$10 per square\nMaximum 5 squares per person\nAll proceeds support PUCHOG programs (ice time\, equipment\, veteran resources)\n\n\nHow to Play\nSuper Bowl Squares is easy to play and fun to follow throughout the game: \n\nPick Your Squares: Choose your squares on the 10×10 grid\nNumbers Assigned: After all squares are filled\, numbers 0-9 are randomly assigned to each axis (one for each team)\nWatch the Game: Winners are determined by matching the last digit of each team’s score\nWin at Each Quarter: Prizes awarded at the end of each quarter\, halftime\, and final score\n\nExample\nIf the Home Team scores 17 and the Away Team scores 14 at the end of the first quarter\, find where row “7” intersects with column “4” on the grid – that square wins! \n\nHow to Participate\nStep 1: Check Availability \n\nEmail csubaseball8@yahoo.com to coordinate with Nick about which square numbers are still available\n\nStep 2: Make Payment \nPayment Options: \n\nVenmo: @Puchog\nPayPal: paypal.me/PUCHOGorg\nCost: $10 per square\n\nPayment Instructions: \n\nSend payment via Venmo or PayPal\nIn payment notes\, include:\n\n“Super Bowl Squares”\nNumber of squares you’re purchasing\nYour desired square numbers\n\n\n\nLimit: Maximum 5 squares per person \n\nPrize Structure\nWinners are determined by the last number of the score for each team per quarter. Prizes awarded as follows: \n\nEnd of 1st Quarter: $100\nEnd of 2nd Quarter (Halftime): $100\nEnd of 3rd Quarter: $100\nFinal Score: $200\n\nNote: We will be paying out each quarter based on the last number of the score for each team per quarter and maxing out the number of squares at 5 squares per person. \nProceeds will go to help PUCHOG – NO OVERTIME \n\nWhere Your Money Goes\n100% of proceeds support wounded veterans through: \n\nIce time for team practices\nHockey equipment\nVeteran resource coordination\nCommunity events\n\nAll PUCHOG programs are run by volunteers – your full $10 goes directly to supporting veterans. \n\nQuestions?\nEmail csubaseball8@yahoo.com for any questions about the Super Bowl Squares fundraiser. \n\nPUCHOG is a 501(c)(3) non-profit organization. All donations are tax-deductible to the extent allowed by law.
URL:https://www.puchog.org/event/super-bowl-squares-2026/
LOCATION:PA
CATEGORIES:Fundraisers
ATTACH;FMTTYPE=image/webp:https://www.puchog.org/wp-content/uploads/2026/01/IMG_0919_720x-e1768755155227.webp
END:VEVENT
END:VCALENDAR