BEGIN:VCALENDAR
VERSION:2.0
PRODID:-//PUCHOG - ECPv6.15.13//NONSGML v1.0//EN
CALSCALE:GREGORIAN
METHOD:PUBLISH
X-ORIGINAL-URL:https://www.puchog.org
X-WR-CALDESC:Events for PUCHOG
REFRESH-INTERVAL;VALUE=DURATION:PT1H
X-Robots-Tag:noindex
X-PUBLISHED-TTL:PT1H
BEGIN:VTIMEZONE
TZID:America/New_York
BEGIN:DAYLIGHT
TZOFFSETFROM:-0500
TZOFFSETTO:-0400
TZNAME:EDT
DTSTART:20250309T070000
END:DAYLIGHT
BEGIN:STANDARD
TZOFFSETFROM:-0400
TZOFFSETTO:-0500
TZNAME:EST
DTSTART:20251102T060000
END:STANDARD
BEGIN:DAYLIGHT
TZOFFSETFROM:-0500
TZOFFSETTO:-0400
TZNAME:EDT
DTSTART:20260308T070000
END:DAYLIGHT
BEGIN:STANDARD
TZOFFSETFROM:-0400
TZOFFSETTO:-0500
TZNAME:EST
DTSTART:20261101T060000
END:STANDARD
BEGIN:DAYLIGHT
TZOFFSETFROM:-0500
TZOFFSETTO:-0400
TZNAME:EDT
DTSTART:20270314T070000
END:DAYLIGHT
BEGIN:STANDARD
TZOFFSETFROM:-0400
TZOFFSETTO:-0500
TZNAME:EST
DTSTART:20271107T060000
END:STANDARD
END:VTIMEZONE
BEGIN:VEVENT
DTSTART;TZID=America/New_York:20260418T080000
DTEND;TZID=America/New_York:20260418T090000
DTSTAMP:20260421T152548
CREATED:20260331T205812Z
LAST-MODIFIED:20260331T212604Z
UID:2043-1776499200-1776502800@www.puchog.org
SUMMARY:PUCHOG Hockey Skate
DESCRIPTION:All military welcome. $10 requested donation. Disabled vets with VA ID skate free. Team coaching and individual skills lessons as needed. Gear available for new disabled vets.
URL:https://www.puchog.org/event/puchog-hockey-skate-3/
LOCATION:Giant Center\, 500 W Hershey Park Dr\, Hershey\, Pennsylvania\, 17033
CATEGORIES:Player skate
END:VEVENT
END:VCALENDAR