BEGIN:VCALENDAR
VERSION:2.0
PRODID:-//PUCHOG - ECPv6.15.13//NONSGML v1.0//EN
CALSCALE:GREGORIAN
METHOD:PUBLISH
X-ORIGINAL-URL:https://www.puchog.org
X-WR-CALDESC:Events for PUCHOG
REFRESH-INTERVAL;VALUE=DURATION:PT1H
X-Robots-Tag:noindex
X-PUBLISHED-TTL:PT1H
BEGIN:VTIMEZONE
TZID:America/New_York
BEGIN:DAYLIGHT
TZOFFSETFROM:-0500
TZOFFSETTO:-0400
TZNAME:EDT
DTSTART:20180311T070000
END:DAYLIGHT
BEGIN:STANDARD
TZOFFSETFROM:-0400
TZOFFSETTO:-0500
TZNAME:EST
DTSTART:20181104T060000
END:STANDARD
BEGIN:DAYLIGHT
TZOFFSETFROM:-0500
TZOFFSETTO:-0400
TZNAME:EDT
DTSTART:20190310T070000
END:DAYLIGHT
BEGIN:STANDARD
TZOFFSETFROM:-0400
TZOFFSETTO:-0500
TZNAME:EST
DTSTART:20191103T060000
END:STANDARD
BEGIN:DAYLIGHT
TZOFFSETFROM:-0500
TZOFFSETTO:-0400
TZNAME:EDT
DTSTART:20200308T070000
END:DAYLIGHT
BEGIN:STANDARD
TZOFFSETFROM:-0400
TZOFFSETTO:-0500
TZNAME:EST
DTSTART:20201101T060000
END:STANDARD
BEGIN:DAYLIGHT
TZOFFSETFROM:-0500
TZOFFSETTO:-0400
TZNAME:EDT
DTSTART:20210314T070000
END:DAYLIGHT
BEGIN:STANDARD
TZOFFSETFROM:-0400
TZOFFSETTO:-0500
TZNAME:EST
DTSTART:20211107T060000
END:STANDARD
BEGIN:DAYLIGHT
TZOFFSETFROM:-0500
TZOFFSETTO:-0400
TZNAME:EDT
DTSTART:20220313T070000
END:DAYLIGHT
BEGIN:STANDARD
TZOFFSETFROM:-0400
TZOFFSETTO:-0500
TZNAME:EST
DTSTART:20221106T060000
END:STANDARD
BEGIN:DAYLIGHT
TZOFFSETFROM:-0500
TZOFFSETTO:-0400
TZNAME:EDT
DTSTART:20230312T070000
END:DAYLIGHT
BEGIN:STANDARD
TZOFFSETFROM:-0400
TZOFFSETTO:-0500
TZNAME:EST
DTSTART:20231105T060000
END:STANDARD
BEGIN:DAYLIGHT
TZOFFSETFROM:-0500
TZOFFSETTO:-0400
TZNAME:EDT
DTSTART:20240310T070000
END:DAYLIGHT
BEGIN:STANDARD
TZOFFSETFROM:-0400
TZOFFSETTO:-0500
TZNAME:EST
DTSTART:20241103T060000
END:STANDARD
BEGIN:DAYLIGHT
TZOFFSETFROM:-0500
TZOFFSETTO:-0400
TZNAME:EDT
DTSTART:20250309T070000
END:DAYLIGHT
BEGIN:STANDARD
TZOFFSETFROM:-0400
TZOFFSETTO:-0500
TZNAME:EST
DTSTART:20251102T060000
END:STANDARD
END:VTIMEZONE
BEGIN:VEVENT
DTSTART;TZID=America/New_York:20240922T190000
DTEND;TZID=America/New_York:20240922T200000
DTSTAMP:20260421T230027
CREATED:20240830T134726Z
LAST-MODIFIED:20240830T134759Z
UID:1555-1727031600-1727035200@www.puchog.org
SUMMARY:PUCHOG Vet Skate
DESCRIPTION:PUCHOG Veterans Skate @ Giant Center — 19:00 until 20:00 \nFor PUCHOG standing team and sled team members.
URL:https://www.puchog.org/event/puchog-vet-skate-6/
LOCATION:Giant Center\, 500 W Hershey Park Dr\, Hershey\, Pennsylvania\, 17033
CATEGORIES:Player skate,Sledge Hockey
ATTACH;FMTTYPE=image/jpeg:https://www.puchog.org/wp-content/uploads/2019/01/18622535_669309903256234_3601008045349383449_n.jpg
ORGANIZER;CN="John Jones":MAILTO:info@puchog.org
END:VEVENT
BEGIN:VEVENT
DTSTART;TZID=America/New_York:20240908T083000
DTEND;TZID=America/New_York:20240908T093000
DTSTAMP:20260421T230027
CREATED:20240830T134334Z
LAST-MODIFIED:20240830T135001Z
UID:1553-1725784200-1725787800@www.puchog.org
SUMMARY:PUCHOG Vet Skate
DESCRIPTION:PUCHOG Veterans Skate @ Hershey Park Arena — 08:30 until 09:30 \nFor PUCHOG standing team and sled team members.
URL:https://www.puchog.org/event/puchog-vet-skate-5/
LOCATION:Hersheypark Arena\, 100 Hersheypark Dr\, Hershey\, PA\, 17033\, United States
CATEGORIES:Player skate,Sledge Hockey
ATTACH;FMTTYPE=image/jpeg:https://www.puchog.org/wp-content/uploads/2019/01/18622535_669309903256234_3601008045349383449_n.jpg
ORGANIZER;CN="John Jones":MAILTO:info@puchog.org
END:VEVENT
BEGIN:VEVENT
DTSTART;VALUE=DATE:20230224
DTEND;VALUE=DATE:20230227
DTSTAMP:20260421T230027
CREATED:20230103T230638Z
LAST-MODIFIED:20230103T230638Z
UID:1182-1677196800-1677455999@www.puchog.org
SUMMARY:Sledg Hockey Expo 2023
DESCRIPTION:The 2023 Sledg Expo will be held on February 24th – 26th \nKlick Lewis Arena\n101 Landings Dr\, Annville\, PA 17003 \n\n4 games Guaranteed\n$850 early bird registration\n$950 after Jan 23rd\nRaffles
URL:https://www.puchog.org/event/sledg-hockey-expo-2023/
LOCATION:Klick Lewis Arena\, 101 Landings Dr\, Annville\, PA\, 17003\, United States
CATEGORIES:Fundraisers,Sledge Hockey,Tournaments
END:VEVENT
BEGIN:VEVENT
DTSTART;TZID=America/New_York:20211017T081000
DTEND;TZID=America/New_York:20211017T091000
DTSTAMP:20260421T230027
CREATED:20211013T163432Z
LAST-MODIFIED:20211013T163432Z
UID:963-1634458200-1634461800@www.puchog.org
SUMMARY:Warrior Skate
DESCRIPTION:Wounded Warriors (VA rating or not) come together and skate\, play some hockey and talk about life.
URL:https://www.puchog.org/event/warrior-skate/
LOCATION:Twin Ponds East\, 3904 Corey Rd\, Harrisburg\, PA\, 17109\, United States
CATEGORIES:Player skate,Sledge Hockey
ORGANIZER;CN="PUCHOG":MAILTO:john.jones@puchog.org
END:VEVENT
BEGIN:VEVENT
DTSTART;TZID=America/New_York:20210117T161500
DTEND;TZID=America/New_York:20210117T171500
DTSTAMP:20260421T230027
CREATED:20210110T153841Z
LAST-MODIFIED:20210110T153841Z
UID:767-1610900100-1610903700@www.puchog.org
SUMMARY:Practice/ Skate Therapy
DESCRIPTION:Hone hockey skills while chilling with other Wounded Warriors.
URL:https://www.puchog.org/event/practice-skate-therapy/
LOCATION:Twin Ponds East\, 3904 Corey Rd\, Harrisburg\, PA\, 17109\, United States
CATEGORIES:Player skate,Sledge Hockey
ORGANIZER;CN="PUCHOG":MAILTO:john.jones@puchog.org
END:VEVENT
BEGIN:VEVENT
DTSTART;TZID=America/New_York:20200809T161500
DTEND;TZID=America/New_York:20200809T171500
DTSTAMP:20260421T230027
CREATED:20200801T060134Z
LAST-MODIFIED:20200801T060134Z
UID:760-1596989700-1596993300@www.puchog.org
SUMMARY:PUCHOG Practice\, Warrior Skate
DESCRIPTION:Wounded Warrior Skate – Free to all wounded vets\, Please Let us know you are coming so we can have equipment there for you!
URL:https://www.puchog.org/event/puchog-practice-warrior-skate/
LOCATION:Twin Ponds East\, 3904 Corey Rd\, Harrisburg\, PA\, 17109\, United States
CATEGORIES:Player skate,Sledge Hockey
ORGANIZER;CN="PUCHOG":MAILTO:john.jones@puchog.org
END:VEVENT
BEGIN:VEVENT
DTSTART;TZID=America/New_York:20190223T141500
DTEND;TZID=America/New_York:20190223T190000
DTSTAMP:20260421T230027
CREATED:20190110T211750Z
LAST-MODIFIED:20190110T183206Z
UID:342-1550931300-1550948400@www.puchog.org
SUMMARY:Group Skate
DESCRIPTION:
URL:https://www.puchog.org/event/group-skate-2/
LOCATION:Twin Ponds East\, 3904 Corey Rd\, Harrisburg\, PA\, 17109\, United States
CATEGORIES:Sledge Hockey
ORGANIZER;CN="John Jones":MAILTO:info@puchog.org
END:VEVENT
BEGIN:VEVENT
DTSTART;TZID=America/New_York:20190120T163000
DTEND;TZID=America/New_York:20190120T173000
DTSTAMP:20260421T230027
CREATED:20190110T205847Z
LAST-MODIFIED:20190110T183230Z
UID:322-1548001800-1548005400@www.puchog.org
SUMMARY:Group Skate
DESCRIPTION:
URL:https://www.puchog.org/event/group-skate/
LOCATION:Twin Ponds East\, 3904 Corey Rd\, Harrisburg\, PA\, 17109\, United States
CATEGORIES:Sledge Hockey
ORGANIZER;CN="John Jones":MAILTO:info@puchog.org
END:VEVENT
END:VCALENDAR