BEGIN:VCALENDAR
VERSION:2.0
PRODID:-//PUCHOG - ECPv6.15.13//NONSGML v1.0//EN
CALSCALE:GREGORIAN
METHOD:PUBLISH
X-WR-CALNAME:PUCHOG
X-ORIGINAL-URL:https://www.puchog.org
X-WR-CALDESC:Events for PUCHOG
REFRESH-INTERVAL;VALUE=DURATION:PT1H
X-Robots-Tag:noindex
X-PUBLISHED-TTL:PT1H
BEGIN:VTIMEZONE
TZID:America/New_York
BEGIN:DAYLIGHT
TZOFFSETFROM:-0500
TZOFFSETTO:-0400
TZNAME:EDT
DTSTART:20250309T070000
END:DAYLIGHT
BEGIN:STANDARD
TZOFFSETFROM:-0400
TZOFFSETTO:-0500
TZNAME:EST
DTSTART:20251102T060000
END:STANDARD
BEGIN:DAYLIGHT
TZOFFSETFROM:-0500
TZOFFSETTO:-0400
TZNAME:EDT
DTSTART:20260308T070000
END:DAYLIGHT
BEGIN:STANDARD
TZOFFSETFROM:-0400
TZOFFSETTO:-0500
TZNAME:EST
DTSTART:20261101T060000
END:STANDARD
BEGIN:DAYLIGHT
TZOFFSETFROM:-0500
TZOFFSETTO:-0400
TZNAME:EDT
DTSTART:20270314T070000
END:DAYLIGHT
BEGIN:STANDARD
TZOFFSETFROM:-0400
TZOFFSETTO:-0500
TZNAME:EST
DTSTART:20271107T060000
END:STANDARD
END:VTIMEZONE
BEGIN:VEVENT
DTSTART;VALUE=DATE:20260605
DTEND;VALUE=DATE:20260608
DTSTAMP:20260421T211945
CREATED:20260106T031429Z
LAST-MODIFIED:20260421T154905Z
UID:1944-1780617600-1780876799@www.puchog.org
SUMMARY:Hockey For Heroes 2026
DESCRIPTION:Teams: Register Via Travel Champs\nDraft Division: Register Via RSVP Below \nThe 12th Hockey For Heroes Tournament. \nAnticipated divisions*: \n\nA Skill Level\nB Skill Level\nC Skill Level\nD Skill Level\nDraft Division**\n\n** Players are entered into draft style selection where the goalies select their team. We do our best to evenly distribute the skill amongst each teams. See Draft Division Information for more details.\n* Division subject to change based on number of teams registered. \nGuaranteed 3 games Friday\, Saturday\, and Sunday. Top teams play a 4th game on Sunday. \nDraft Division Information\n**Participants must sign up before May 15th to guarantee jersey customizations** \nUse the RSVP form below to officially register for Draft Division or directly contact Jake Crawford via email (jcrawford19@gmail.com). \nDraft Division payment can be made directly to Jake via Paypal (jcrawford19@gmail.com) or Venmo (@jcrawford19). He will handle purchasing the tailgating food and registering you with Travel Champs. \nWhat’s Included: \nCustom Jersey \n\nFull-sublimation military branch design (Army\, Navy\, Air Force\, or Marines) with your name and number.\n\nGuaranteed Draft Spot \n\nExperience the unique camaraderie of our draft-style league where everyone from local regulars to out-of-towners competes for the bragging rights of top spot.\n\nThe Draft Experience \n\n4 Goalies select their team based skill assessment. We do our best to take into account for experience\, current league level\, and past draft division performance.\n\nParking Lot Tailgate \n\nWe are including a full social experience this year. A portion of your registration goes directly toward catered food in the parking lot\, available to all Draft League participants between games.\n\nThe Mission \n\n100% of the tournament proceeds go directly to our veteran programs. This isn’t just a tournament; it’s a “Thank You” to those who served.\n\nPre-order merch via RSVP tickets below\nAll images are conceptual mocks\, and are subject to look visually different as a final product. \nAthletic Shirt\n$20 – Color TBD. Made of a polyester blend.\nAll participants will receive one shirt for free\, but additional shirts are available for purchase. \nCotton Shirt (pre-order only)\n$20 – Color TBD. Made of a cotton tri blend.\nFor pre-order only\, for those who prefer an alternate to the athletic fit shirt. \nHoodie\n$50 – Color TBD. Hooded sweat shirt\, made of cotton and polyester blend.\nOur best selling item at tournaments\, make sure to secure your hoodie size via pre-order. \nHat\n$30 – TBD style hat.\nSporting the PUCHOG name. Not specific to any tournament year. \nHockey Jersey\n$40 – Colors TBD. practice quality hockey jerseys.\nUsually only for draft division players\, available for pre-orders this year. Pick your name and number as well.
URL:https://www.puchog.org/event/hockey-for-heroes-2026/
LOCATION:Lancaster Ice Rink\, 371 Carerra Dr\, Lancaster\, 17601\, United States
CATEGORIES:Fundraisers,Tournaments
ORGANIZER;CN="John Jones":MAILTO:info@puchog.org
END:VEVENT
BEGIN:VEVENT
DTSTART;TZID=America/New_York:20260925T130000
DTEND;TZID=America/New_York:20260925T190000
DTSTAMP:20260421T211945
CREATED:20260411T141547Z
LAST-MODIFIED:20260411T142948Z
UID:2055-1790341200-1790362800@www.puchog.org
SUMMARY:3rd Annual PUCHOG Golf Tournament
DESCRIPTION:
URL:https://www.puchog.org/event/puchog-golf-tournament-2026/
LOCATION:Dauphin Highlands Golf Course\, 650 S. Harrisburg Street\, Harrisburg\, PA\, 17113\, United States
CATEGORIES:Fundraisers,Tournaments
ATTACH;FMTTYPE=image/jpeg:https://www.puchog.org/wp-content/uploads/2023/07/187_3888x2592_all-free-download.com_14942593-scaled.jpg
ORGANIZER;CN="PUCHOG":MAILTO:john.jones@puchog.org
END:VEVENT
END:VCALENDAR